BEGIN:VCALENDAR
PRODID:-//Red Pacto Global Argentina //NONSGML Events //EN
VERSION:2.0
BEGIN:VEVENT
DTSTAMP:20230824T012714Z
STATUS:CONFIRMED
UID:10001
DTSTART:20211130T100000
DTEND:20211111T110000
LOCATION:Virtual
DESCRIPTION:\"El Desarrollo de una Cultura Sostenible de la Cadena de Valor\"<br />

SUMMARY:Cuarto Webinar del Grupo Sostenibilidad en la Cadena de Valor
TRANSP:OPAQUE
BEGIN:VALARM
ACTION:DISPLAY
DESCRIPTION:Cuarto Webinar del Grupo Sostenibilidad en la Cadena de Valor
END:VALARM
END:VEVENT
END:VCALENDAR
