BEGIN:VCALENDAR
PRODID:-//Red Pacto Global Argentina //NONSGML Events //EN
VERSION:2.0
BEGIN:VEVENT
DTSTAMP:20230824T013149Z
STATUS:CONFIRMED
UID:10004
DTSTART:20211123T100000
DTEND:20211123T110000
LOCATION:Virtual
DESCRIPTION:Gestión de oportunidades: Sostenibilidad de proveedores, su desarrollo e innovación.  
SUMMARY:23 de noviembre | Cuarto Encuentro Grupo: del Grupo Sostenibilidad en la Cadena de Valor
TRANSP:OPAQUE
BEGIN:VALARM
ACTION:DISPLAY
DESCRIPTION:23 de noviembre | Cuarto Encuentro Grupo: del Grupo Sostenibilidad en la Cadena de Valor
END:VALARM
END:VEVENT
END:VCALENDAR
