BEGIN:VCALENDAR
PRODID:-//Red Pacto Global Argentina //NONSGML Events //EN
VERSION:2.0
BEGIN:VEVENT
DTSTAMP:20230824T013146Z
STATUS:CONFIRMED
UID:10047
DTSTART:20210729T110000
DTEND:20210729T120000
LOCATION:Virtual
DESCRIPTION:La iniciativa Science Based Targets (SBTi), una colaboración entre CDP, el Pacto Global, WRI y WWF, establece métodos y herramientas para que las empresas desarrollen objetivos de reducción de emisiones de GEI basados en ciencia, con el fin de cumplir los objetivos del Acuerdo de París. En este webinar de SBTi presentaremos los métodos para elaborar los objetivos basados en ciencia para alcances 1 y 2 y tendremos una demostración del uso de la herramienta Excel (SBTi Tool) para modelar los objetivos. Al final del evento, tendremos una sesión de preguntas y respuestas para que los participantes puedan aclarar sus dudas.
SUMMARY:29 de julio | Webinar de la Iniciativa Science Based Targets (SBTi): Herramienta de elaboración de metas
TRANSP:OPAQUE
BEGIN:VALARM
ACTION:DISPLAY
DESCRIPTION:29 de julio | Webinar de la Iniciativa Science Based Targets (SBTi): Herramienta de elaboración de metas
END:VALARM
END:VEVENT
END:VCALENDAR
