BEGIN:VCALENDAR
PRODID:-//Red Pacto Global Argentina //NONSGML Events //EN
VERSION:2.0
BEGIN:VEVENT
DTSTAMP:20230824T013048Z
STATUS:CONFIRMED
UID:10054
DTSTART:20210727T150000
DTEND:20210727T160000
LOCATION:Virtual
DESCRIPTION:Iniciemos una Década de Acción, sumate al SDG Ambition
SUMMARY:27 de julio | Participá del Webinar informativo SDG Ambition
TRANSP:OPAQUE
BEGIN:VALARM
ACTION:DISPLAY
DESCRIPTION:27 de julio | Participá del Webinar informativo SDG Ambition
END:VALARM
END:VEVENT
END:VCALENDAR
