BEGIN:VCALENDAR
PRODID:-//Red Pacto Global Argentina //NONSGML Events //EN
VERSION:2.0
BEGIN:VEVENT
DTSTAMP:20230824T013139Z
STATUS:CONFIRMED
UID:10081
DTSTART:20210825T113000
DTEND:20210825T153000
LOCATION:Virtual
DESCRIPTION:Evento Plataforma Pacto Mundial en Moda Sostenible - Primer Evento Regional, AMÉRICA LATINA<br />

SUMMARY:25 de agosto | Primer Evento Regional Integrando la sostenibilidad en la moda y los textiles
TRANSP:OPAQUE
BEGIN:VALARM
ACTION:DISPLAY
DESCRIPTION:25 de agosto | Primer Evento Regional Integrando la sostenibilidad en la moda y los textiles
END:VALARM
END:VEVENT
END:VCALENDAR
