BEGIN:VCALENDAR
PRODID:-//Red Pacto Global Argentina //NONSGML Events //EN
VERSION:2.0
BEGIN:VEVENT
DTSTAMP:20230824T013328Z
STATUS:CONFIRMED
UID:10121
DTSTART:20210806T090000
DTEND:20210806T120000
LOCATION:Virtual
DESCRIPTION:Lanzamiento del 1er Programa de Formación Ejecutiva Economía Circular y Objetivos de Desarrollo Sostenible
SUMMARY:6 de agosto  | 1er clase del Programa de Formación Ejecutiva  Economía Circular  y ODS
TRANSP:OPAQUE
BEGIN:VALARM
ACTION:DISPLAY
DESCRIPTION:6 de agosto  | 1er clase del Programa de Formación Ejecutiva  Economía Circular  y ODS
END:VALARM
END:VEVENT
END:VCALENDAR
