BEGIN:VCALENDAR
PRODID:-//Red Pacto Global Argentina //NONSGML Events //EN
VERSION:2.0
BEGIN:VEVENT
DTSTAMP:20230824T012748Z
STATUS:CONFIRMED
UID:10124
DTSTART:20210813T090000
DTEND:20210813T120000
LOCATION:Virtual
DESCRIPTION:
SUMMARY:13 de agosto  | 2da clase del Programa de Formación Ejecutiva  Economía Circular  y ODS
TRANSP:OPAQUE
BEGIN:VALARM
ACTION:DISPLAY
DESCRIPTION:13 de agosto  | 2da clase del Programa de Formación Ejecutiva  Economía Circular  y ODS
END:VALARM
END:VEVENT
END:VCALENDAR
