BEGIN:VCALENDAR
PRODID:-//Red Pacto Global Argentina //NONSGML Events //EN
VERSION:2.0
BEGIN:VEVENT
DTSTAMP:20230824T013010Z
STATUS:CONFIRMED
UID:10129
DTSTART:20210827T090000
DTEND:20210827T120000
LOCATION:Virtual
DESCRIPTION:
SUMMARY:27 de agosto  | 3era clase del Programa de Formación Ejecutiva  Economía Circular  y ODS
TRANSP:OPAQUE
BEGIN:VALARM
ACTION:DISPLAY
DESCRIPTION:27 de agosto  | 3era clase del Programa de Formación Ejecutiva  Economía Circular  y ODS
END:VALARM
END:VEVENT
END:VCALENDAR
