BEGIN:VCALENDAR
PRODID:-//Red Pacto Global Argentina //NONSGML Events //EN
VERSION:2.0
BEGIN:VEVENT
DTSTAMP:20230824T012837Z
STATUS:CONFIRMED
UID:10131
DTSTART:20210903T090000
DTEND:20210903T120000
LOCATION:Virtual
DESCRIPTION:
SUMMARY:03 de septiembre  | 5ta clase del Programa de Formación Ejecutiva  Economía Circular  y ODS
TRANSP:OPAQUE
BEGIN:VALARM
ACTION:DISPLAY
DESCRIPTION:03 de septiembre  | 5ta clase del Programa de Formación Ejecutiva  Economía Circular  y ODS
END:VALARM
END:VEVENT
END:VCALENDAR
