BEGIN:VCALENDAR
PRODID:-//Red Pacto Global Argentina //NONSGML Events //EN
VERSION:2.0
BEGIN:VEVENT
DTSTAMP:20230824T012933Z
STATUS:CONFIRMED
UID:10169
DTSTART:20210824T110000
DTEND:20210824T120000
LOCATION:Virtual
DESCRIPTION:
SUMMARY:24 de agosto | Webinar: ¿Cuál es el futuro del reporte de sostenibilidad corporativa?
TRANSP:OPAQUE
BEGIN:VALARM
ACTION:DISPLAY
DESCRIPTION:24 de agosto | Webinar: ¿Cuál es el futuro del reporte de sostenibilidad corporativa?
END:VALARM
END:VEVENT
END:VCALENDAR
