BEGIN:VCALENDAR
PRODID:-//Red Pacto Global Argentina //NONSGML Events //EN
VERSION:2.0
BEGIN:VEVENT
DTSTAMP:20230824T013108Z
STATUS:CONFIRMED
UID:10223
DTSTART:20210922T100000
DTEND:20210922T130000
LOCATION:Virtual
DESCRIPTION:
SUMMARY:22 de septiembre | Lanzamiento del Programa “Integridad Sostenible: Compliance de Segunda Generación»
TRANSP:OPAQUE
BEGIN:VALARM
ACTION:DISPLAY
DESCRIPTION:22 de septiembre | Lanzamiento del Programa “Integridad Sostenible: Compliance de Segunda Generación»
END:VALARM
END:VEVENT
END:VCALENDAR
