BEGIN:VCALENDAR
PRODID:-//Red Pacto Global Argentina //NONSGML Events //EN
VERSION:2.0
BEGIN:VEVENT
DTSTAMP:20230824T013347Z
STATUS:CONFIRMED
UID:10251
DTSTART:20210907T110000
DTEND:20210907T120000
LOCATION:
DESCRIPTION:¿Cómo alinear los incentivos comerciales y económicos de su empresa, con una cultura de integridad y sustentabilidad?
SUMMARY:07 de septiembre | Pre-Lanzamiento del Programa “Integridad Sostenible: Compliance de Segunda Generación»
TRANSP:OPAQUE
BEGIN:VALARM
ACTION:DISPLAY
DESCRIPTION:07 de septiembre | Pre-Lanzamiento del Programa “Integridad Sostenible: Compliance de Segunda Generación»
END:VALARM
END:VEVENT
END:VCALENDAR
