BEGIN:VCALENDAR
PRODID:-//Red Pacto Global Argentina //NONSGML Events //EN
VERSION:2.0
BEGIN:VEVENT
DTSTAMP:20230824T013131Z
STATUS:CONFIRMED
UID:10377
DTSTART:20210921T110000
DTEND:20210921T120000
LOCATION:Virtual
DESCRIPTION:1er Seminario: Iniciativa de Cooperación Triangular entre Pacto Global Paraguay, Pacto Global Argentina, ICEX España y la Ventana ADELANTE de Cooperación Triangular Unión Europea – América Latina y el Caribe. <br />

SUMMARY:21 de septiembre | Lanzamiento de la iniciativa de Cooperación Triangular
TRANSP:OPAQUE
BEGIN:VALARM
ACTION:DISPLAY
DESCRIPTION:21 de septiembre | Lanzamiento de la iniciativa de Cooperación Triangular
END:VALARM
END:VEVENT
END:VCALENDAR
