BEGIN:VCALENDAR
PRODID:-//Red Pacto Global Argentina //NONSGML Events //EN
VERSION:2.0
BEGIN:VEVENT
DTSTAMP:20230824T012827Z
STATUS:CONFIRMED
UID:10381
DTSTART:20210923T100000
DTEND:20210923T110000
LOCATION:Virtual
DESCRIPTION:1er webinar abierto en el marco del grupo de trabajo “Transporte Sustentable” coordinado por Scania Argentina y Pacto Global Argentina<br />

SUMMARY:23 de septiembre | Abordando la dimensión social de la Agenda 2030 en la industria del transporte
TRANSP:OPAQUE
BEGIN:VALARM
ACTION:DISPLAY
DESCRIPTION:23 de septiembre | Abordando la dimensión social de la Agenda 2030 en la industria del transporte
END:VALARM
END:VEVENT
END:VCALENDAR
