BEGIN:VCALENDAR
PRODID:-//Red Pacto Global Argentina //NONSGML Events //EN
VERSION:2.0
BEGIN:VEVENT
DTSTAMP:20230824T012815Z
STATUS:CONFIRMED
UID:10469
DTSTART:20210929T100000
DTEND:20210929T120000
LOCATION:Virtual
DESCRIPTION:Módulo 2: Lógica y alcance de la integridad sostenible<br />
<br />
El segundo módulo pretende abordar en profundidad el concepto y alcance de la integridad sostenible.
SUMMARY:29 de septiembre | Programa Capacitación Integridad sostenible
TRANSP:OPAQUE
BEGIN:VALARM
ACTION:DISPLAY
DESCRIPTION:29 de septiembre | Programa Capacitación Integridad sostenible
END:VALARM
END:VEVENT
END:VCALENDAR
