BEGIN:VCALENDAR
PRODID:-//Red Pacto Global Argentina //NONSGML Events //EN
VERSION:2.0
BEGIN:VEVENT
DTSTAMP:20230824T013405Z
STATUS:CONFIRMED
UID:10472
DTSTART:20211006T100000
DTEND:20211006T120000
LOCATION:Virtual
DESCRIPTION:Módulo 3: Matriz<br />

SUMMARY:6 de octubre | Programa Capacitación Integridad sostenible
TRANSP:OPAQUE
BEGIN:VALARM
ACTION:DISPLAY
DESCRIPTION:6 de octubre | Programa Capacitación Integridad sostenible
END:VALARM
END:VEVENT
END:VCALENDAR
