BEGIN:VCALENDAR
PRODID:-//Red Pacto Global Argentina //NONSGML Events //EN
VERSION:2.0
BEGIN:VEVENT
DTSTAMP:20230824T013127Z
STATUS:CONFIRMED
UID:10474
DTSTART:20211013T100000
DTEND:20211013T120000
LOCATION:Virtual
DESCRIPTION:Módulo 4: Evaluando la integridad sostenible <br />
<br />

SUMMARY:13 de octubre | Programa Capacitación Integridad sostenible
TRANSP:OPAQUE
BEGIN:VALARM
ACTION:DISPLAY
DESCRIPTION:13 de octubre | Programa Capacitación Integridad sostenible
END:VALARM
END:VEVENT
END:VCALENDAR
