BEGIN:VCALENDAR
PRODID:-//Red Pacto Global Argentina //NONSGML Events //EN
VERSION:2.0
BEGIN:VEVENT
DTSTAMP:20230824T013142Z
STATUS:CONFIRMED
UID:10476
DTSTART:20211020T100000
DTEND:20211020T120000
LOCATION:Virtual
DESCRIPTION:Módulo 5: Composición de un Comité de Integridad Sostenible <br />
<br />

SUMMARY:20 de octubre | Programa Capacitación Integridad sostenible
TRANSP:OPAQUE
BEGIN:VALARM
ACTION:DISPLAY
DESCRIPTION:20 de octubre | Programa Capacitación Integridad sostenible
END:VALARM
END:VEVENT
END:VCALENDAR
