BEGIN:VCALENDAR
PRODID:-//Red Pacto Global Argentina //NONSGML Events //EN
VERSION:2.0
BEGIN:VEVENT
DTSTAMP:20230824T013035Z
STATUS:CONFIRMED
UID:10478
DTSTART:20211027T100000
DTEND:20211027T120000
LOCATION:Virtual
DESCRIPTION:Módulo 6: Elementos para un plan de acción<br />

SUMMARY:27 de octubre | Programa Capacitación Integridad sostenible
TRANSP:OPAQUE
BEGIN:VALARM
ACTION:DISPLAY
DESCRIPTION:27 de octubre | Programa Capacitación Integridad sostenible
END:VALARM
END:VEVENT
END:VCALENDAR
