BEGIN:VCALENDAR
PRODID:-//Red Pacto Global Argentina //NONSGML Events //EN
VERSION:2.0
BEGIN:VEVENT
DTSTAMP:20230824T013341Z
STATUS:CONFIRMED
UID:10578
DTSTART:20211007T150000
DTEND:20211007T160000
LOCATION:
DESCRIPTION:Las instituciones financieras reconocen cada vez más el alcance de los riesgos climáticos y su impacto en todos los sectores de la economía. Es urgente que se revisen las actividades de inversión y de préstamo para que puedan contribuir a evitar los peores efectos del cambio climático y a financiar un futuro sin emisiones de carbono y seguro para el clima.
SUMMARY:7 de octubre | Metas basadas en ciencia para Instituciones Financieras
TRANSP:OPAQUE
BEGIN:VALARM
ACTION:DISPLAY
DESCRIPTION:7 de octubre | Metas basadas en ciencia para Instituciones Financieras
END:VALARM
END:VEVENT
END:VCALENDAR
