BEGIN:VCALENDAR
PRODID:-//Red Pacto Global Argentina //NONSGML Events //EN
VERSION:2.0
BEGIN:VEVENT
DTSTAMP:20230824T013258Z
STATUS:CONFIRMED
UID:10654
DTSTART:20211021T100000
DTEND:20211021T110000
LOCATION:Virtual
DESCRIPTION:Evento cerrado para organizaciones no empresariales que se incorporaron al PG en los últimos 12 meses. <br />
<br />
Será una sesión virtual y gratuita en la que se busca profundizar sobre la política de reporte vigente para las organizaciones no empresariales adheridas a nuestra iniciativa.
SUMMARY:21 de octubre | Segundo taller COE 2021
TRANSP:OPAQUE
BEGIN:VALARM
ACTION:DISPLAY
DESCRIPTION:21 de octubre | Segundo taller COE 2021
END:VALARM
END:VEVENT
END:VCALENDAR
