BEGIN:VCALENDAR
PRODID:-//Red Pacto Global Argentina //NONSGML Events //EN
VERSION:2.0
BEGIN:VEVENT
DTSTAMP:20230824T013226Z
STATUS:CONFIRMED
UID:10669
DTSTART:20211019T183000
DTEND:20211019T203000
LOCATION:Virtual
DESCRIPTION:
SUMMARY:Clase Nº1 – XV Cátedra del Pacto: De la responsabilidad social empresaria a la sostenibilidad corporativa
TRANSP:OPAQUE
BEGIN:VALARM
ACTION:DISPLAY
DESCRIPTION:Clase Nº1 &#8211\; XV Cátedra del Pacto: De la responsabilidad social empresaria a la sostenibilidad corporativa
END:VALARM
END:VEVENT
END:VCALENDAR
