BEGIN:VCALENDAR
PRODID:-//Red Pacto Global Argentina //NONSGML Events //EN
VERSION:2.0
BEGIN:VEVENT
DTSTAMP:20230824T012906Z
STATUS:CONFIRMED
UID:10670
DTSTART:20211021T183000
DTEND:20211021T203000
LOCATION:Virtual
DESCRIPTION:La matriz de materialidad
SUMMARY:Clase Nº2 – XV Cátedra del Pacto: ¿Cómo se diseña una estrategia de sostenibilidad corporativa?
TRANSP:OPAQUE
BEGIN:VALARM
ACTION:DISPLAY
DESCRIPTION:Clase Nº2 – XV Cátedra del Pacto: ¿Cómo se diseña una estrategia de sostenibilidad corporativa?
END:VALARM
END:VEVENT
END:VCALENDAR
