BEGIN:VCALENDAR
PRODID:-//Red Pacto Global Argentina //NONSGML Events //EN
VERSION:2.0
BEGIN:VEVENT
DTSTAMP:20230824T013318Z
STATUS:CONFIRMED
UID:10677
DTSTART:20211026T183000
DTEND:20211026T203000
LOCATION:Virtual
DESCRIPTION:Creación de valor desde la cultura de la integridad
SUMMARY:Clase Nº3 – XV Cátedra del Pacto: Integridad sostenible
TRANSP:OPAQUE
BEGIN:VALARM
ACTION:DISPLAY
DESCRIPTION:Clase Nº3 &#8211\; XV Cátedra del Pacto: Integridad sostenible
END:VALARM
END:VEVENT
END:VCALENDAR
