BEGIN:VCALENDAR
PRODID:-//Red Pacto Global Argentina //NONSGML Events //EN
VERSION:2.0
BEGIN:VEVENT
DTSTAMP:20230824T013041Z
STATUS:CONFIRMED
UID:10681
DTSTART:20211028T183000
DTEND:20211028T203000
LOCATION:Virtual
DESCRIPTION:
SUMMARY:Clase Nº4 – XV Cátedra del Pacto: Gestión de buenas prácticas laborales
TRANSP:OPAQUE
BEGIN:VALARM
ACTION:DISPLAY
DESCRIPTION:Clase Nº4 &#8211\; XV Cátedra del Pacto: Gestión de buenas prácticas laborales
END:VALARM
END:VEVENT
END:VCALENDAR
