BEGIN:VCALENDAR
PRODID:-//Red Pacto Global Argentina //NONSGML Events //EN
VERSION:2.0
BEGIN:VEVENT
DTSTAMP:20230824T013017Z
STATUS:CONFIRMED
UID:10686
DTSTART:20211102T183000
DTEND:20211102T203000
LOCATION:Virtual
DESCRIPTION:¿Por qué las organizaciones deben integrar el ODS 5 en su estrategia sostenible? El impacto de la contribución en 360 grados.
SUMMARY:Clase Nº 5 – XV Cátedra del Pacto: La perspectiva de género en la Empresa
TRANSP:OPAQUE
BEGIN:VALARM
ACTION:DISPLAY
DESCRIPTION:Clase Nº 5 &#8211\; XV Cátedra del Pacto: La perspectiva de género en la Empresa
END:VALARM
END:VEVENT
END:VCALENDAR
