BEGIN:VCALENDAR
PRODID:-//Red Pacto Global Argentina //NONSGML Events //EN
VERSION:2.0
BEGIN:VEVENT
DTSTAMP:20230824T013213Z
STATUS:CONFIRMED
UID:10691
DTSTART:20211104T183000
DTEND:20211104T203000
LOCATION:Virtual
DESCRIPTION:La empresa en la comunidad cercana
SUMMARY:Clase Nº 6 – XV Cátedra del Pacto: Gestión de impactos
TRANSP:OPAQUE
BEGIN:VALARM
ACTION:DISPLAY
DESCRIPTION:Clase Nº 6 &#8211\; XV Cátedra del Pacto: Gestión de impactos
END:VALARM
END:VEVENT
END:VCALENDAR
