BEGIN:VCALENDAR
PRODID:-//Red Pacto Global Argentina //NONSGML Events //EN
VERSION:2.0
BEGIN:VEVENT
DTSTAMP:20230824T012822Z
STATUS:CONFIRMED
UID:10694
DTSTART:20211109T183000
DTEND:20211109T203000
LOCATION:Virtual
DESCRIPTION:<br />

SUMMARY:Clase Nº 7 – XV Cátedra del Pacto: Empresa y Derechos Humanos
TRANSP:OPAQUE
BEGIN:VALARM
ACTION:DISPLAY
DESCRIPTION:Clase Nº 7 &#8211\; XV Cátedra del Pacto: Empresa y Derechos Humanos
END:VALARM
END:VEVENT
END:VCALENDAR
