BEGIN:VCALENDAR
PRODID:-//Red Pacto Global Argentina //NONSGML Events //EN
VERSION:2.0
BEGIN:VEVENT
DTSTAMP:20230824T013355Z
STATUS:CONFIRMED
UID:10695
DTSTART:20211111T183000
DTEND:20211111T203000
LOCATION:Virtual
DESCRIPTION:
SUMMARY:Clase Nº 8 – XV Cátedra del Pacto: Cambio climático y la contribución de las empresas
TRANSP:OPAQUE
BEGIN:VALARM
ACTION:DISPLAY
DESCRIPTION:Clase Nº 8 &#8211\; XV Cátedra del Pacto: Cambio climático y la contribución de las empresas
END:VALARM
END:VEVENT
END:VCALENDAR
