BEGIN:VCALENDAR
PRODID:-//Red Pacto Global Argentina //NONSGML Events //EN
VERSION:2.0
BEGIN:VEVENT
DTSTAMP:20230824T013144Z
STATUS:CONFIRMED
UID:10698
DTSTART:20211116T183000
DTEND:20211116T203000
LOCATION:Virtual
DESCRIPTION:
SUMMARY:Clase Nº 9 – XV Cátedra del Pacto: Alinear la estrategia de sostenibilidad a los Objetivos de Desarrollo Sostenible
TRANSP:OPAQUE
BEGIN:VALARM
ACTION:DISPLAY
DESCRIPTION:Clase Nº 9 &#8211\; XV Cátedra del Pacto: Alinear la estrategia de sostenibilidad a los Objetivos de Desarrollo Sostenible
END:VALARM
END:VEVENT
END:VCALENDAR
