BEGIN:VCALENDAR
PRODID:-//Red Pacto Global Argentina //NONSGML Events //EN
VERSION:2.0
BEGIN:VEVENT
DTSTAMP:20230824T012900Z
STATUS:CONFIRMED
UID:10700
DTSTART:20211119T183000
DTEND:20211119T203000
LOCATION:Virtual
DESCRIPTION:
SUMMARY:Clase Nº 10 – XV Cátedra del Pacto: Proceso de elaboración de Reportes de Sustentabilidad y Comunicación de Progreso
TRANSP:OPAQUE
BEGIN:VALARM
ACTION:DISPLAY
DESCRIPTION:Clase Nº 10 &#8211\; XV Cátedra del Pacto: Proceso de elaboración de Reportes de Sustentabilidad y Comunicación de Progreso
END:VALARM
END:VEVENT
END:VCALENDAR
