BEGIN:VCALENDAR
PRODID:-//Red Pacto Global Argentina //NONSGML Events //EN
VERSION:2.0
BEGIN:VEVENT
DTSTAMP:20230824T012752Z
STATUS:CONFIRMED
UID:10746
DTSTART:20211103T100000
DTEND:20211103T113000
LOCATION:Virtiual
DESCRIPTION:
SUMMARY:Segundo taller COP 2021
TRANSP:OPAQUE
BEGIN:VALARM
ACTION:DISPLAY
DESCRIPTION:Segundo taller COP 2021
END:VALARM
END:VEVENT
END:VCALENDAR
