BEGIN:VCALENDAR
PRODID:-//Red Pacto Global Argentina //NONSGML Events //EN
VERSION:2.0
BEGIN:VEVENT
DTSTAMP:20230824T013102Z
STATUS:CONFIRMED
UID:10813
DTSTART:20211209T100000
DTEND:20211209T113000
LOCATION:Virtual
DESCRIPTION:“Pasaporte a la Integridad” dónde las empresas participantes recibirán un reconocimiento de Plata, Oro o Platino según categoría elegida.<br />
<br />

SUMMARY:Pasaporte a la Integridad: Evento de cierre del programa
TRANSP:OPAQUE
BEGIN:VALARM
ACTION:DISPLAY
DESCRIPTION:Pasaporte a la Integridad: Evento de cierre del programa
END:VALARM
END:VEVENT
END:VCALENDAR
