BEGIN:VCALENDAR
PRODID:-//Red Pacto Global Argentina //NONSGML Events //EN
VERSION:2.0
BEGIN:VEVENT
DTSTAMP:20230824T012902Z
STATUS:CONFIRMED
UID:10827
DTSTART:20211202T130000
DTEND:20211202T143000
LOCATION:Virtual
DESCRIPTION:El papel de las empresas para abordar la pobreza laboral y promover el trabajo decente.<br />

SUMMARY:Evento regional: Comprendiendo y Promoviendo el Salario Digno en América Latina.
TRANSP:OPAQUE
BEGIN:VALARM
ACTION:DISPLAY
DESCRIPTION:Evento regional: Comprendiendo y Promoviendo el Salario Digno en América Latina.
END:VALARM
END:VEVENT
END:VCALENDAR
