BEGIN:VCALENDAR
PRODID:-//Red Pacto Global Argentina //NONSGML Events //EN
VERSION:2.0
BEGIN:VEVENT
DTSTAMP:20230824T013321Z
STATUS:CONFIRMED
UID:10829
DTSTART:20211117T103000
DTEND:20211117T123000
LOCATION:
DESCRIPTION:
SUMMARY:Segundo Taller de SDG Ambition
TRANSP:OPAQUE
BEGIN:VALARM
ACTION:DISPLAY
DESCRIPTION:Segundo Taller de SDG Ambition
END:VALARM
END:VEVENT
END:VCALENDAR
