BEGIN:VCALENDAR
PRODID:-//Red Pacto Global Argentina //NONSGML Events //EN
VERSION:2.0
BEGIN:VEVENT
DTSTAMP:20230824T012836Z
STATUS:CONFIRMED
UID:10867
DTSTART:20211201T103000
DTEND:20211201T123000
LOCATION:Virtual
DESCRIPTION:Taller 2.2: Itinerarios, Acciones y Objetivos secundarios.<br />

SUMMARY:Taller sobre el enfoque del SDG Ambition
TRANSP:OPAQUE
BEGIN:VALARM
ACTION:DISPLAY
DESCRIPTION:Taller sobre el enfoque del SDG Ambition
END:VALARM
END:VEVENT
END:VCALENDAR
