BEGIN:VCALENDAR
PRODID:-//Red Pacto Global Argentina //NONSGML Events //EN
VERSION:2.0
BEGIN:VEVENT
DTSTAMP:20230824T013219Z
STATUS:CONFIRMED
UID:10869
DTSTART:20220309T103000
DTEND:20220309T123000
LOCATION:Virtual
DESCRIPTION:Identificando métricas
SUMMARY:Taller sobre el enfoque del SDG Ambition
TRANSP:OPAQUE
BEGIN:VALARM
ACTION:DISPLAY
DESCRIPTION:Taller sobre el enfoque del SDG Ambition
END:VALARM
END:VEVENT
END:VCALENDAR
