BEGIN:VCALENDAR
PRODID:-//Red Pacto Global Argentina //NONSGML Events //EN
VERSION:2.0
BEGIN:VEVENT
DTSTAMP:20230824T012741Z
STATUS:CONFIRMED
UID:10871
DTSTART:20220330T103000
DTEND:20220330T130000
LOCATION:Virtual
DESCRIPTION:Inteligencia Diseñada y Diseño de Sistemas
SUMMARY:Taller SDG Ambition
TRANSP:OPAQUE
BEGIN:VALARM
ACTION:DISPLAY
DESCRIPTION:Taller SDG Ambition
END:VALARM
END:VEVENT
END:VCALENDAR
