BEGIN:VCALENDAR
PRODID:-//Red Pacto Global Argentina //NONSGML Events //EN
VERSION:2.0
BEGIN:VEVENT
DTSTAMP:20230824T013231Z
STATUS:CONFIRMED
UID:10873
DTSTART:20220420T103000
DTEND:20220420T123000
LOCATION:Virtual
DESCRIPTION:Taller sobre el camino hacia la integración
SUMMARY:Taller SDG Ambition
TRANSP:OPAQUE
BEGIN:VALARM
ACTION:DISPLAY
DESCRIPTION:Taller SDG Ambition
END:VALARM
END:VEVENT
END:VCALENDAR
