BEGIN:VCALENDAR
PRODID:-//Red Pacto Global Argentina //NONSGML Events //EN
VERSION:2.0
BEGIN:VEVENT
DTSTAMP:20230824T012742Z
STATUS:CONFIRMED
UID:10875
DTSTART:20220504T103000
DTEND:20220504T130000
LOCATION:Virtual
DESCRIPTION:Sesión sobre el discurso de integración
SUMMARY:Taller SDG Ambition
TRANSP:OPAQUE
BEGIN:VALARM
ACTION:DISPLAY
DESCRIPTION:Taller SDG Ambition
END:VALARM
END:VEVENT
END:VCALENDAR
