BEGIN:VCALENDAR
PRODID:-//Red Pacto Global Argentina //NONSGML Events //EN
VERSION:2.0
BEGIN:VEVENT
DTSTAMP:20230824T013330Z
STATUS:CONFIRMED
UID:10879
DTSTART:20211117T100000
DTEND:20211117T113000
LOCATION:Virtual
DESCRIPTION:Es un webinar, desarrollado en el marco de la Iniciativa de Cooperación Triangular del Pacto Global Paraguay, Pacto Global Argentina,  ICEX España Exportación e Inversiones y la Ventana ADELANTE de la Unión Europea – América Latina y el Caribe.<br />

SUMMARY:2º Seminario abierto “El papel de los DDHH en las cadenas de valor y el desarrollo de los proveedores”
TRANSP:OPAQUE
BEGIN:VALARM
ACTION:DISPLAY
DESCRIPTION:2º Seminario abierto “El papel de los DDHH en las cadenas de valor y el desarrollo de los proveedores”
END:VALARM
END:VEVENT
END:VCALENDAR
