BEGIN:VCALENDAR
PRODID:-//Red Pacto Global Argentina //NONSGML Events //EN
VERSION:2.0
BEGIN:VEVENT
DTSTAMP:20230824T012720Z
STATUS:CONFIRMED
UID:10980
DTSTART:20211207T100000
DTEND:20211107T120000
LOCATION:
DESCRIPTION:Evento cerrado de clausura de la Iniciativa Adelante 2<br />

SUMMARY:Presentación del informe de consultoría: «Sostenibilidad en la cadena de valor del sector agroalimentario en Argentina, Paraguay y España.»
TRANSP:OPAQUE
BEGIN:VALARM
ACTION:DISPLAY
DESCRIPTION:Presentación del informe de consultoría: «Sostenibilidad en la cadena de valor del sector agroalimentario en Argentina\, Paraguay y España.»
END:VALARM
END:VEVENT
END:VCALENDAR
