BEGIN:VCALENDAR
PRODID:-//Red Pacto Global Argentina //NONSGML Events //EN
VERSION:2.0
BEGIN:VEVENT
DTSTAMP:20230824T013159Z
STATUS:CONFIRMED
UID:11012
DTSTART:20211209T100000
DTEND:20211209T120000
LOCATION:Virtual
DESCRIPTION:Te invitamos al 3º Seminario “El papel de las cadenas de valor para la localización de los ODS”, desarrollado en el marco de la Iniciativa de Cooperación Triangular, por el Pacto Global Paraguay, ICEX España, Pacto Global Argentina y y la Ventana ADELANTE UE ALC.
SUMMARY:3er Seminario: «El papel de las cadenas de valor para la localización de los ODS»
TRANSP:OPAQUE
BEGIN:VALARM
ACTION:DISPLAY
DESCRIPTION:3er Seminario: «El papel de las cadenas de valor para la localización de los ODS»
END:VALARM
END:VEVENT
END:VCALENDAR
