BEGIN:VCALENDAR
PRODID:-//Red Pacto Global Argentina //NONSGML Events //EN
VERSION:2.0
BEGIN:VEVENT
DTSTAMP:20230824T013336Z
STATUS:CONFIRMED
UID:11092
DTSTART:20220119T170000
DTEND:20220119T180000
LOCATION:Virtual
DESCRIPTION:La semana pasada el Pacto Global de las Naciones Unidas anunció el lanzamiento de una versión mejorada de la Comunicación sobre el Progreso (CoP), que entrará en vigencia en 2023. 
SUMMARY:Nueva COP: Sesión Informativa “Programa de Adopción Temprana”
TRANSP:OPAQUE
BEGIN:VALARM
ACTION:DISPLAY
DESCRIPTION:Nueva COP: Sesión Informativa “Programa de Adopción Temprana”
END:VALARM
END:VEVENT
END:VCALENDAR
