BEGIN:VCALENDAR
PRODID:-//Red Pacto Global Argentina //NONSGML Events //EN
VERSION:2.0
BEGIN:VEVENT
DTSTAMP:20230824T013208Z
STATUS:CONFIRMED
UID:11312
DTSTART:20220315T080000
DTEND:20220315T160000
LOCATION:Virtual
DESCRIPTION:Target Gender Equality LIVE
SUMMARY:Igualdad de género a través de la disrupción
TRANSP:OPAQUE
BEGIN:VALARM
ACTION:DISPLAY
DESCRIPTION:Igualdad de género a través de la disrupción
END:VALARM
END:VEVENT
END:VCALENDAR
