BEGIN:VCALENDAR
PRODID:-//Red Pacto Global Argentina //NONSGML Events //EN
VERSION:2.0
BEGIN:VEVENT
DTSTAMP:20230824T013052Z
STATUS:CONFIRMED
UID:11432
DTSTART:20220310T090000
DTEND:20220310T100000
LOCATION:Virtual
DESCRIPTION:6ta. Edición en Argentina
SUMMARY:Toque de Campana por la Igualdad de Género 2022
TRANSP:OPAQUE
BEGIN:VALARM
ACTION:DISPLAY
DESCRIPTION:Toque de Campana por la Igualdad de Género 2022
END:VALARM
END:VEVENT
END:VCALENDAR
