BEGIN:VCALENDAR
PRODID:-//Red Pacto Global Argentina //NONSGML Events //EN
VERSION:2.0
BEGIN:VEVENT
DTSTAMP:20230824T012806Z
STATUS:CONFIRMED
UID:11447
DTSTART:20220421T140000
DTEND:20220421T170000
LOCATION:Virtual
DESCRIPTION:El Centro de Estudios para el Lujo Sustentable, la Red Argentina y la Red Colombia, ambas del Pacto Global, junto al Programa de Desarrollo de Naciones Unidas -PNUD- organizan y dictan el e-Learning «Gestión Sostenible del Lujo» (2da. Edición).
SUMMARY:Lanzamiento de la 2da. edición del e-Learning: «Gestión Sostenible del lujo»
TRANSP:OPAQUE
BEGIN:VALARM
ACTION:DISPLAY
DESCRIPTION:Lanzamiento de la 2da. edición del e-Learning: «Gestión Sostenible del lujo»
END:VALARM
END:VEVENT
END:VCALENDAR
