BEGIN:VCALENDAR
PRODID:-//Red Pacto Global Argentina //NONSGML Events //EN
VERSION:2.0
BEGIN:VEVENT
DTSTAMP:20230824T013028Z
STATUS:CONFIRMED
UID:11449
DTSTART:20220408T170000
DTEND:20220408T200000
LOCATION:Virtual
DESCRIPTION:El Centro Textil Sustentable, la Red Argentina y la Red Colombia, ambas del Pacto Global, junto al Programa de Desarrollo de Naciones Unidas -PNUD- organizan y dictan el Programa «Liderando el Cambio en el Sector Textil y de la Moda» (6ta. Edición).
SUMMARY:Lanzamiento del Programa de e-Leaning «Liderando el Cambio en el Sector Textil y de la Moda» – 6ta. Edición
TRANSP:OPAQUE
BEGIN:VALARM
ACTION:DISPLAY
DESCRIPTION:Lanzamiento del Programa de e-Leaning «Liderando el Cambio en el Sector Textil y de la Moda» – 6ta. Edición
END:VALARM
END:VEVENT
END:VCALENDAR
