BEGIN:VCALENDAR
PRODID:-//Red Pacto Global Argentina //NONSGML Events //EN
VERSION:2.0
BEGIN:VEVENT
DTSTAMP:20230824T013031Z
STATUS:CONFIRMED
UID:11573
DTSTART:20220308T173000
DTEND:20220308T200000
LOCATION:Virtual
DESCRIPTION:Innovación y Cooperación Público-Privada para una Recuperación Inclusiva y Sostenible
SUMMARY:Foro Empresarial para los ODS en América Latina y el Caribe 2022
TRANSP:OPAQUE
BEGIN:VALARM
ACTION:DISPLAY
DESCRIPTION:Foro Empresarial para los ODS en América Latina y el Caribe 2022
END:VALARM
END:VEVENT
END:VCALENDAR
