BEGIN:VCALENDAR
PRODID:-//Red Pacto Global Argentina //NONSGML Events //EN
VERSION:2.0
BEGIN:VEVENT
DTSTAMP:20230824T013122Z
STATUS:CONFIRMED
UID:11736
DTSTART:20220316T113000
DTEND:20220316T130000
LOCATION:Virtual
DESCRIPTION:Participa en este webinar y conocé los detalles sobre el programa exclusivo para adheridos al Pacto Global de Naciones Unidas, enfocado en el ODS 13 “Acción por el clima”.
SUMMARY:Sesión informativa: Programa Acelerador de Ambición Climática para Latinoamérica
TRANSP:OPAQUE
BEGIN:VALARM
ACTION:DISPLAY
DESCRIPTION:Sesión informativa: Programa Acelerador de Ambición Climática para Latinoamérica
END:VALARM
END:VEVENT
END:VCALENDAR
